BEGIN:VCALENDAR
VERSION:2.0
METHOD:PUBLISH
BEGIN:VEVENT
UID:WILD_APRICOT_EVENT_2671292_SESSION_1
DTSTART:20171024T051500Z
DTEND:20171024T070000Z
SUMMARY:Registration for NYP summer sport - twilight netball (now closed)
LOCATION:Saxton Netball Courts - Stoke
DESCRIPTION:http://nyp.co.nz/event-2671292\n\n\n Note: spaces are now full for the NYPeacocks Twilight Netball team\n  Sign up here from 5 October to be in the team for twilight netball. Games are played at Saxton Netball Courts on a Tuesday night at either 6:15pm or 7:15pm. Please select the 'pay online' option when you are completing the registration process.\n  The season starts on October 24 and runs until December 5.\n  We will notify you of the game times via our the NYPeacocks Netball Facebook page.\n  Members will receive a discount on subs. Team numbers are limited\, so you must register and pay on our website in order to be in the team.\n  Make sure you're in the NYPeacocks Facebook group on the NYP Facebook page.\n  This season's netball team is kindly sponsored by Arthouse Architects.\n  \n\n
DTSTAMP:20180124T140014Z
END:VEVENT
END:VCALENDAR
