BEGIN:VCALENDAR
VERSION:2.0
METHOD:PUBLISH
BEGIN:VEVENT
UID:WILD_APRICOT_EVENT_2667773_SESSION_1
DTSTART:20180116T110000Z
DTEND:20180213T110000Z
SUMMARY:Registration for NYP summer sport - mens' touch - spaces still available
LOCATION:Tahunanui sportsground
DESCRIPTION:http://nyp.co.nz/event-2667773\n\n\n  There's still a few spaces left - sign up now.\n  Sign up here to be on our mens' touch team. Games are every Thursday evening\, at Tahunanui. There will also be a mixed touch league entered on Tuesday night.   \n  Keep an eye on the NYP Touch Facebook group for details and draws - but you must sign up on this page in order to play for NYP.\n  NYP touch teams are kindly sponsored by Calibre Consulting.\n  \n\n   \n   \n
DTSTAMP:20180124T053128Z
END:VEVENT
END:VCALENDAR
